BEGIN:VCALENDAR
VERSION:2.0
PRODID:-//PECAA | Professional Eye Care Associates of America - ECPv6.3.2//NONSGML v1.0//EN
CALSCALE:GREGORIAN
METHOD:PUBLISH
X-WR-CALNAME:PECAA | Professional Eye Care Associates of America
X-ORIGINAL-URL:https://portal.pecaa.com
X-WR-CALDESC:Events for PECAA | Professional Eye Care Associates of America
REFRESH-INTERVAL;VALUE=DURATION:PT1H
X-Robots-Tag:noindex
X-PUBLISHED-TTL:PT1H
BEGIN:VTIMEZONE
TZID:America/Los_Angeles
BEGIN:DAYLIGHT
TZOFFSETFROM:-0800
TZOFFSETTO:-0700
TZNAME:PDT
DTSTART:20260308T100000
END:DAYLIGHT
BEGIN:STANDARD
TZOFFSETFROM:-0700
TZOFFSETTO:-0800
TZNAME:PST
DTSTART:20261101T090000
END:STANDARD
BEGIN:DAYLIGHT
TZOFFSETFROM:-0800
TZOFFSETTO:-0700
TZNAME:PDT
DTSTART:20270314T100000
END:DAYLIGHT
BEGIN:STANDARD
TZOFFSETFROM:-0700
TZOFFSETTO:-0800
TZNAME:PST
DTSTART:20271107T090000
END:STANDARD
BEGIN:DAYLIGHT
TZOFFSETFROM:-0800
TZOFFSETTO:-0700
TZNAME:PDT
DTSTART:20280312T100000
END:DAYLIGHT
BEGIN:STANDARD
TZOFFSETFROM:-0700
TZOFFSETTO:-0800
TZNAME:PST
DTSTART:20281105T090000
END:STANDARD
BEGIN:DAYLIGHT
TZOFFSETFROM:-0800
TZOFFSETTO:-0700
TZNAME:PDT
DTSTART:20290311T100000
END:DAYLIGHT
BEGIN:STANDARD
TZOFFSETFROM:-0700
TZOFFSETTO:-0800
TZNAME:PST
DTSTART:20291104T090000
END:STANDARD
END:VTIMEZONE
BEGIN:VEVENT
DTSTART;TZID=America/Los_Angeles:20260816T080000
DTEND;TZID=America/Los_Angeles:20260816T173000
DTSTAMP:20260423T154817
CREATED:20260310T145514Z
LAST-MODIFIED:20260420T180056Z
UID:54929-1786867200-1786901400@portal.pecaa.com
SUMMARY:COPE-Accredited Continuing Education Event
DESCRIPTION:COPE-Accredited Continuing Education Event\nEvent Details:\nDate: Sunday\, August 16\, 2026 \nTime: 8:00 am – 2:30 pm PT/11:00 am – 5:30 pm ET \nLocation: Webinar \n  \nEvent Description:\nPECAA is pleased to announce its next COPE virtual education event\, taking place on Sunday\, August 16\, 2026 from 11:00 am – 5:30 pm ET. This event will provide six (6) hours of COPE-accredited clinical continuing education to optometrists across the country and will be presented in a synchronous\, virtual Zoom webinar format. In accordance with current COPE/ARBO guidelines\, there are no testing requirements for synchronous virtual formatted courses to count as COPE-approved CE credits. \nEach PECAA education event provides impactful instruction on a targeted area relevant to contemporary eye care practice. The August 16 event will present a variety of ocular topics. \nThis event is open to all optometrists nationwide\, including PECAA Max members\, HEA Advantage members and non-members — PECAA Propel members are also invited to join us. We look forward to welcoming you to this event. \nRegistration Details To Come
URL:https://portal.pecaa.com/event/cope-accredited-continuing-education-event/
LOCATION:Webinar
CATEGORIES:Webinars
ATTACH;FMTTYPE=image/png:https://portal.pecaa.com/wp-content/uploads/2026/03/5.png
END:VEVENT
BEGIN:VEVENT
DTSTART;VALUE=DATE:20270311
DTEND;VALUE=DATE:20270315
DTSTAMP:20260423T154817
CREATED:20250624T184437Z
LAST-MODIFIED:20251114T160610Z
UID:50862-1804762800-1805021999@portal.pecaa.com
SUMMARY:Vision Expo 2027
DESCRIPTION:Vision Expo 2027\nIf you plan on attending the show\, stop by the PECAA booth during exhibit hours to connect with our team and help us learn how we can best serve you. We look forward to seeing you there! \nEvent Details:\nDates:  Thursday\, March 11 – Saturday\, March 13\, 2027 \nLocation: The Venetian Expo\n201 Sands Avenue\nLas Vegas\, NV 89169 \nLearn more about Vision Expo 2027
URL:https://portal.pecaa.com/event/vision-expo-2027/
LOCATION:The Venetian Convention & Expo Center\, 201 Sands Ave\, Las Vegas\, NV\, 89169\, United States
CATEGORIES:National Events
ATTACH;FMTTYPE=image/jpeg:https://portal.pecaa.com/wp-content/uploads/2024/10/8.jpg
END:VEVENT
BEGIN:VEVENT
DTSTART;VALUE=DATE:20270423
DTEND;VALUE=DATE:20270427
DTSTAMP:20260423T154817
CREATED:20241207T011322Z
LAST-MODIFIED:20260326T182932Z
UID:48110-1808478000-1808737199@portal.pecaa.com
SUMMARY:2027 Annual Meeting
DESCRIPTION:Join Us For The 2027 Annual Meeting!\nEvent Details:\nDates: Friday\, April 23 – Sunday\, April 25\, 2027 \nLocation: Gaylord National Resort & Convention Center\n201 Waterfront St.\nNational Harbor\, MD 20745 \nPECAA is excited to see YOU at our 2027 Annual Meeting from April 23-25\, in National Harbor\, MD! \nOur signature event provides a unique experience designed to offer meaningful connections with colleagues\, the best in education\, and access to the newest industry products and services to help take your practice to the next level. It’s like hitting the jackpot for your eye care business! \nThis event is a PECAA Max membership benefit and is at no registration cost to PECAA Max member doctors and staff. \nREGISTRATION DETAILS TO COME
URL:https://portal.pecaa.com/event/2027-annual-meeting/
CATEGORIES:National Events
ATTACH;FMTTYPE=image/png:https://portal.pecaa.com/wp-content/uploads/2024/12/EventBlog-Main-Image.png
END:VEVENT
BEGIN:VEVENT
DTSTART;VALUE=DATE:20280330
DTEND;VALUE=DATE:20280403
DTSTAMP:20260423T154817
CREATED:20250624T184709Z
LAST-MODIFIED:20251114T160627Z
UID:50865-1838026800-1838285999@portal.pecaa.com
SUMMARY:Vision Expo 2028
DESCRIPTION:Vision Expo 2028\nIf you plan on attending the show\, stop by the PECAA booth during exhibit hours to connect with our team and help us learn how we can best serve you. We look forward to seeing you there! \nEvent Details:\nDates:  Thursday\, March 30 – Saturday\, April 1\, 2028 \nLocation: The Javits Center\n429 11th Avenue\nNew York\, NY 10001 \nLearn more about Vision Expo 2028
URL:https://portal.pecaa.com/event/vision-expo-2028/
LOCATION:JACOB JAVITS CONVENTION CENTER OF NEW YORK\, 429 11th Avenue\, New York\, NY\, 10001
CATEGORIES:National Events
ATTACH;FMTTYPE=image/jpeg:https://portal.pecaa.com/wp-content/uploads/2024/10/8.jpg
END:VEVENT
BEGIN:VEVENT
DTSTART;VALUE=DATE:20280427
DTEND;VALUE=DATE:20280501
DTSTAMP:20260423T154817
CREATED:20241207T011457Z
LAST-MODIFIED:20260107T212748Z
UID:48113-1840446000-1840705199@portal.pecaa.com
SUMMARY:2028 Annual Meeting
DESCRIPTION:Join Us For The 2028 Annual Meeting In Austin\, Texas!\nDate: Thursday\, April 27 – Saturday\, April 29\, 2028\nLocation: Austin\, TX \n  \nPECAA is excited to see YOU at our 2028 Annual Meeting from April 27 – 29\, in Austin! \nOur signature event provides a unique experience designed to offer meaningful connections with colleagues\, the best in education\, and access to the newest industry products and services to help take your practice to the next level. It’s like hitting the jackpot for your eye care business! \nThis event is a PECAA Max membership benefit and is at no registration cost to PECAA Max member doctors and staff. \nREGISTRATION DETAILS TO COME
URL:https://portal.pecaa.com/event/2028-annual-meeting/
CATEGORIES:National Events
ATTACH;FMTTYPE=image/jpeg:https://portal.pecaa.com/wp-content/uploads/2024/12/2028.jpg
END:VEVENT
BEGIN:VEVENT
DTSTART;VALUE=DATE:20290406
DTEND;VALUE=DATE:20290410
DTSTAMP:20260423T154817
CREATED:20241207T011614Z
LAST-MODIFIED:20260107T212758Z
UID:48116-1870167600-1870426799@portal.pecaa.com
SUMMARY:2029 Annual Meeting
DESCRIPTION:Join Us For The 2029 Annual Meeting In Denver\, Colorado!\nDate: April 6-8\, 2029\nLocation: Denver\, CO \n  \nPECAA is excited to see YOU at our 2029 Annual Meeting in Denver! \nOur signature event provides a unique experience designed to offer meaningful connections with colleagues\, the best in education\, and access to the newest industry products and services to help take your practice to the next level. It’s like hitting the jackpot for your eye care business! \nThis event is a PECAA Max membership benefit and is at no registration cost to PECAA Max member doctors and staff. \nREGISTRATION DETAILS TO COME
URL:https://portal.pecaa.com/event/2029-annual-meeting/
CATEGORIES:National Events
ATTACH;FMTTYPE=image/jpeg:https://portal.pecaa.com/wp-content/uploads/2024/12/2029.jpg
END:VEVENT
END:VCALENDAR