BEGIN:VCALENDAR
VERSION:2.0
PRODID:-//PECAA | Professional Eye Care Associates of America - ECPv6.3.2//NONSGML v1.0//EN
CALSCALE:GREGORIAN
METHOD:PUBLISH
X-ORIGINAL-URL:https://portal.pecaa.com
X-WR-CALDESC:Events for PECAA | Professional Eye Care Associates of America
REFRESH-INTERVAL;VALUE=DURATION:PT1H
X-Robots-Tag:noindex
X-PUBLISHED-TTL:PT1H
BEGIN:VTIMEZONE
TZID:UTC
BEGIN:STANDARD
TZOFFSETFROM:+0000
TZOFFSETTO:+0000
TZNAME:UTC
DTSTART:20180101T000000
END:STANDARD
END:VTIMEZONE
BEGIN:VEVENT
DTSTART;TZID=UTC:20180507T183000
DTEND;TZID=UTC:20180507T210000
DTSTAMP:20260425T064057
CREATED:20180414T012258Z
LAST-MODIFIED:20180416T072736Z
UID:14321-1525717800-1525726800@portal.pecaa.com
SUMMARY:Peer-to-Peer Dinner: Austin\, TX
DESCRIPTION:Avoiding Professional Burnout\nDiscussion Outline:\nDo you believe you’ve reached the perfect work/life balance? Finding that balance can be hard\, and the more you struggle with it\, the more you risk professional burnout (mental exhaustion combined with doubts about the value of your work). \nDuring this dinner and discussion\, we will be going over strategies and steps you can take to avoid professional burnout. We will also be discussing: \n\nScheduling & staff coverage so that you can focus on what you do best\nAvoiding employee burnout & methods to increase retention\nTime off – how often and how long?\n\nWe hope to see you there!\nRSVP NOW
URL:https://portal.pecaa.com/event/peer-to-peer-dinner-austin-tx/
LOCATION:Central Standard\, 1603 South Congress Ave\, Austin\, TX\, 78704\, United States
CATEGORIES:Peer to Peer Dinners
ATTACH;FMTTYPE=image/jpeg:https://portal.pecaa.com/wp-content/uploads/2018/04/peer-to-peer-dinner-party.jpg
END:VEVENT
BEGIN:VEVENT
DTSTART;TZID=UTC:20180503T183000
DTEND;TZID=UTC:20180503T210000
DTSTAMP:20260425T064057
CREATED:20180414T022707Z
LAST-MODIFIED:20180416T072639Z
UID:14332-1525372200-1525381200@portal.pecaa.com
SUMMARY:Peer-to-Peer Dinner: Tulsa\, OK
DESCRIPTION:3 Simple Strategies for a More Successful Practice\nDiscussion Outline:\nDuring this dinner\, we’ll discuss: \n\nLevering larger discounts by limiting the number of suppliers\nSmall expenses: don’t let them nickel and dime you\nMind your P’s & Q’s – better yet mind your P’s & L’s.\n\nThis dinner is open to both doctors and key staff members. \nWe hope to see you there!\nRSVP NOW
URL:https://portal.pecaa.com/event/peer-to-peer-dinner-tulsa-ok/
LOCATION:Mahogany Prime Steakhouse – Tulsa\, 4840 E. 61st Street\, Tulsa\, OK\, 74136\, United States
CATEGORIES:Peer to Peer Dinners
ATTACH;FMTTYPE=image/jpeg:https://portal.pecaa.com/wp-content/uploads/2018/02/bigstock-Business-People-Meeting-Eating-137506574-e1663109065501.jpg
END:VEVENT
BEGIN:VEVENT
DTSTART;TZID=UTC:20180503T183000
DTEND;TZID=UTC:20180503T210000
DTSTAMP:20260425T064057
CREATED:20180413T233037Z
LAST-MODIFIED:20180416T072648Z
UID:14228-1525372200-1525381200@portal.pecaa.com
SUMMARY:Peer-to-Peer Dinner: Fargo\, ND
DESCRIPTION:All Things PECAA & Open Forum\nDiscussion Outline:\nAre you getting the most out of your PECAA Membership? \nWe want to ensure that our Members are taking full advantage of all of the tools and resources available to you as a PECAA Member. During this dinner and discussion\, we will be reviewing in detail new and updated benefits available to you\, our partnerships programs with vendors and the overall goals of our organization in helping independent ECPs. This dinner will also be open forum\, so there will be an opportunity for you to ask questions as well as suggest ideas on how best we can serve you in the future\, as well as bring up any other topics on your mind! \nSome possible discussion points include: \n\nWhat has been your biggest practice accomplishment?\nWhat do you see as your biggest practice opportunity?\nWhat did you implement in 2017 and how did the change impact your practice?\nAs a business owner\, how do you feel going forward in 2018?\n\nThis dinner is open to both doctors and staff members. \nWe hope that you are able to attend!\nRSVP NOW
URL:https://portal.pecaa.com/event/peer-to-peer-dinner-fargo-nd/
LOCATION:Hotel Donaldson\, 101 Broadway N.\, Fargo\, ND\, 58102\, United States
CATEGORIES:Peer to Peer Dinners
ATTACH;FMTTYPE=image/jpeg:https://portal.pecaa.com/wp-content/uploads/2018/04/bigstock-Dinner-Dining-Wine-Cheers-Part-118511204-e1663190023891.jpg
END:VEVENT
BEGIN:VEVENT
DTSTART;TZID=UTC:20180502T183000
DTEND;TZID=UTC:20180502T210000
DTSTAMP:20260425T064057
CREATED:20180413T232748Z
LAST-MODIFIED:20180416T072658Z
UID:14224-1525285800-1525294800@portal.pecaa.com
SUMMARY:Peer-to-Peer Dinner: Nashville\, TN
DESCRIPTION:Practice Expansion and Growth Strategies\nDiscussion Outline:\nDuring this dinner and discussion\, we will focus on practice expansion and growth strategies. Possible talking points include: \n\nWhat are some of the ways we can sell more nutraceuticals and dry eye products to increase profitability?\nWhat are some techniques to sell multiple pairs of eyewear even when customers are on a limited vision plan?\nWhat are some new technologies available in the market that can increase private pay or billable procedures?\nOnline competition strategies\nWhat are the most promising return on investments in new technologies\, such as OCT\, Optos?\nHow do we tap into the ever-expanding millennial market?\nHow do we best entice patients to patronize independent practices versus chains?\n\nThis dinner is open to doctors and up to two key staff members. \nWe hope to see you there!\nRSVP NOW
URL:https://portal.pecaa.com/event/peer-to-peer-dinner-nashville-tn/
LOCATION:Jeff Ruby’s Steakhouse\, 300 4th Avenue North\, Nashville\, TN\, 37219\, United States
CATEGORIES:Peer to Peer Dinners
ATTACH;FMTTYPE=image/jpeg:https://portal.pecaa.com/wp-content/uploads/2018/04/dinner.jpg
END:VEVENT
BEGIN:VEVENT
DTSTART;TZID=UTC:20180502T183000
DTEND;TZID=UTC:20180502T210000
DTSTAMP:20260425T064057
CREATED:20180413T232458Z
LAST-MODIFIED:20180416T072413Z
UID:14220-1525285800-1525294800@portal.pecaa.com
SUMMARY:Peer-to-Peer Dinner: Dallas\, TX
DESCRIPTION:Thrive at Work: Avoiding Professional Burnout\nDiscussion Outline:\nDo you believe you’ve reached the perfect work/life balance? Finding that balance can be hard\, and the more you struggle with it\, the more you risk professional burnout (mental exhaustion combined with doubts about the value of your work). \nDuring this dinner and discussion\, we will be going over strategies and steps you can take to avoid professional burnout. We will also be discussing: \n\nScheduling & staff coverage so that you can focus on what you do best\nAvoiding employee burnout & methods to increase retention\nTime off – how often and how long?\n\nWe hope to see you there!\nRSVP NOW
URL:https://portal.pecaa.com/event/peer-to-peer-dinner-dallas-tx/
LOCATION:Winewood\, 1265 S Main St\, Grapevine\, TX\, 76051\, United States
CATEGORIES:Peer to Peer Dinners
ATTACH;FMTTYPE=image/jpeg:https://portal.pecaa.com/wp-content/uploads/2018/04/peer-to-peer-image-1.jpg
END:VEVENT
BEGIN:VEVENT
DTSTART;TZID=UTC:20180502T183000
DTEND;TZID=UTC:20180502T210000
DTSTAMP:20260425T064057
CREATED:20180413T232130Z
LAST-MODIFIED:20180416T072348Z
UID:14216-1525285800-1525294800@portal.pecaa.com
SUMMARY:Peer-to-Peer Dinner: Oklahoma City\, OK
DESCRIPTION:Hospitality Vs. Customer Service\nDiscussion Outline:\nTogether\, we’ll be discussing: \n\nThe latest PECAA announcements\nHow can we be proactive in customer facing activities?\nHow do we inspire greatness among our staff?\nHow do we address staff members who are not pulling their weight?\n\nThis dinner is open to both doctors and staff. \nWe hope to see you there!\nRSVP NOW
URL:https://portal.pecaa.com/event/peer-to-peer-dinner-oklahoma-city-ok/
LOCATION:Mahogany Prime Steakhouse – OKC\, 145 W Sheridan Ave\, Oklahoma City\, OK\, 73102\, United States
CATEGORIES:Peer to Peer Dinners
ATTACH;FMTTYPE=image/jpeg:https://portal.pecaa.com/wp-content/uploads/2018/04/bigstock-161721278-e1663109105496.jpg
END:VEVENT
BEGIN:VEVENT
DTSTART;TZID=UTC:20180426T183000
DTEND;TZID=UTC:20180426T210000
DTSTAMP:20260425T064057
CREATED:20180413T051254Z
LAST-MODIFIED:20180416T072304Z
UID:14198-1524767400-1524776400@portal.pecaa.com
SUMMARY:Peer-to-Peer Dinner: Columbus\, OH
DESCRIPTION:Growing Your Practice: Contact Lenses\nDiscussion Outline:\nContact lenses pose a particular challenge to private optometric practices. While they provide additional exam revenue\, the online competition for the lenses themselves is fierce. During this dinner we’ll discuss: \n\nStrategies that entice customers to order their lenses through their practitioner instead of online.\nDaily Lenses: Opportunities for increased revenues and improved customer satisfaction. What experiences do you have to share?\nMulti-focals: How to keep customers in contacts as they age. What approaches have worked best for you?\n\nThis dinner is open to doctors and one key staff member. \nWe hope to see you there!\nRSVP NOW
URL:https://portal.pecaa.com/event/peer-to-peer-dinner-columbus-oh/
LOCATION:Marcella’s\, 1319 Polaris Parkway\, Columbus\, OH\, 43240\, United States
CATEGORIES:Peer to Peer Dinners
ATTACH;FMTTYPE=image/jpeg:https://portal.pecaa.com/wp-content/uploads/2018/04/bigstock-catering-food-89562044.jpg
END:VEVENT
BEGIN:VEVENT
DTSTART;TZID=UTC:20180426T183000
DTEND;TZID=UTC:20180426T210000
DTSTAMP:20260425T064057
CREATED:20180413T050834Z
LAST-MODIFIED:20180416T071755Z
UID:14194-1524767400-1524776400@portal.pecaa.com
SUMMARY:Peer-to-Peer Dinner: Boise\, ID
DESCRIPTION:Billing Strategies\nDiscussion Outline:\nThis dinner will focus on practice management as it relates to billing. PECAA’s Billing & Coding Manager Teri Thurston will be in attendance and will be available to answer any questions you may have. Together\, we’ll be discussing: \n\nDo you use an outsourced billing company\, or do you keep your billing in-house?\nIf in-house\, what kinds of training do you provide for your billing staffer?\nWhat courses have you taken to better educate yourself and your staff on billing/coding techniques?\nWhat resources have you found to help determine how often a patient can be seen or what tests can be run for specific diagnoses and conditions?\nWhat information is collected from your patients prior to arrival?\nWhat resources are used to determine insurance coverage and benefits?\nDoes staff determine both medical and vision eligibly and benefits for each visit? Even if the patient schedules for a vision exam?\nDoes staff determine whether you are a participating provider\, patient out-of-pocket responsibilities and coordination of care?\nDo you code each visit and then submit to your biller\, or do you have someone else in the office do the coding for you?\nDo you have a process to check your coding and charting for errors on a regular basis in- house?\n\nThis dinner is open to both doctors and staff. \nWe hope to see you there!\nRSVP NOW
URL:https://portal.pecaa.com/event/peer-to-peer-dinner-boise-id/
LOCATION:Barbacoa Restaurant\, 276 Bobwhite Ct.\, Boise\, ID\, 83706\, United States
CATEGORIES:Peer to Peer Dinners
ATTACH;FMTTYPE=image/jpeg:https://portal.pecaa.com/wp-content/uploads/2018/04/peer-to-peer-dinner-party.jpg
END:VEVENT
BEGIN:VEVENT
DTSTART;TZID=UTC:20180426T110000
DTEND;TZID=UTC:20180426T120000
DTSTAMP:20260425T064057
CREATED:20180413T045006Z
LAST-MODIFIED:20180416T071951Z
UID:14190-1524740400-1524744000@portal.pecaa.com
SUMMARY:Webinar: Using Patient Reviews to Grow Your Business
DESCRIPTION:Using Patient Reviews to Grow Your Business\nDate & Time: Thursday\, April 26\, 2018  |  11:00am – 12:00pm Pacific\nPresented by: Eric Irons\, Global Business Development Manager\, VSP Global\nCourse Description: \n90% of consumers read online reviews before visiting a local business\, and 92% of consumers trust peer recommendations over all other advertising. Learn how your practice can gather insights\, improve your ratings\, and engage with your online reviews to amplify your online presence and ultimately\, grow your business.\nREGISTER NOW
URL:https://portal.pecaa.com/event/webinar-using-patient-reviews-to-grow-your-business/
LOCATION:UT
CATEGORIES:Webinars
ATTACH;FMTTYPE=image/jpeg:https://portal.pecaa.com/wp-content/uploads/2018/04/Webinar-Header-Image.jpg
END:VEVENT
BEGIN:VEVENT
DTSTART;VALUE=DATE:20180419
DTEND;VALUE=DATE:20180422
DTSTAMP:20260425T064057
CREATED:20180416T070712Z
LAST-MODIFIED:20180416T070712Z
UID:14559-1524135600-1524355199@portal.pecaa.com
SUMMARY:2018 Annual Meeting
DESCRIPTION:Registration Now Open!\nThe PECAA 2018 Annual Meeting will take place April 19-21 at the JW Marriott Starpass Resort in Tucson\, AZ. \nThe Annual Meeting is an opportunity for PECAA Members nationwide to come together to network\, learn\, and have some fun! There is no registration fee and the event is open to all PECAA Member doctors and staff. \n 
URL:https://portal.pecaa.com/event/2018-annual-meeting/
LOCATION:JW Marriott Tucson Starr Pass Resort & Spa\, 3800 W Starr Pass Blvd\, Tucson\, AZ\, 85745\, United States
CATEGORIES:National Events
ATTACH;FMTTYPE=image/png:https://portal.pecaa.com/wp-content/uploads/2018/04/am-social-media-logo-1.png
END:VEVENT
END:VCALENDAR